BEGIN:VCALENDAR
VERSION:2.0
PRODID:-//Der Korkenzieher - ECPv4.7.4//NONSGML v1.0//EN
CALSCALE:GREGORIAN
METHOD:PUBLISH
X-WR-CALNAME:Der Korkenzieher
X-ORIGINAL-URL:http://www.derkorkenzieher.at
X-WR-CALDESC:Veranstaltungen für Der Korkenzieher
BEGIN:VEVENT
DTSTART;VALUE=DATE:20220120
DTEND;VALUE=DATE:20220203
DTSTAMP:20260421T005010
CREATED:20211113T171320Z
LAST-MODIFIED:20211113T171320Z
UID:956-1642636800-1643846399@www.derkorkenzieher.at
SUMMARY:Familie Redl
DESCRIPTION:
URL:http://www.derkorkenzieher.at/index.php/veranstaltung/familie-redl-15/
LOCATION:Redl\, Ahrenberger Kellergasse\, Sitzenberg-Reidling\, Niederösterreich\, 3454\, Österreich
CATEGORIES:Heurigen
END:VEVENT
END:VCALENDAR