BEGIN:VCALENDAR
VERSION:2.0
PRODID:-//Der Korkenzieher - ECPv4.7.4//NONSGML v1.0//EN
CALSCALE:GREGORIAN
METHOD:PUBLISH
X-WR-CALNAME:Der Korkenzieher
X-ORIGINAL-URL:http://www.derkorkenzieher.at
X-WR-CALDESC:Veranstaltungen für Der Korkenzieher
BEGIN:VEVENT
DTSTART;VALUE=DATE:20230316
DTEND;VALUE=DATE:20230330
DTSTAMP:20260424T232333
CREATED:20221218T075745Z
LAST-MODIFIED:20221218T075745Z
UID:1023-1678924800-1680134399@www.derkorkenzieher.at
SUMMARY:Familie Gramer
DESCRIPTION:
URL:http://www.derkorkenzieher.at/index.php/veranstaltung/familie-gramer-20/
LOCATION:Gramer\, Ahrenberger Kellergasse\, Sitzenberg-Reidling\, Niederösterreich\, 3454\, Österreich
CATEGORIES:Heurigen
END:VEVENT
END:VCALENDAR